BEGIN:VCALENDAR
VERSION:2.0
PRODID:-//Department Of Education//acb64a86-45cc-458a-9431-3ff07ed07c75
BEGIN:VTIMEZONE
TZID:Australia/Sydney
TZURL:http://tzurl.org/zoneinfo-outlook/Australia/Sydney
X-LIC-LOCATION:Australia/Sydney
BEGIN:STANDARD
TZOFFSETFROM:+1100
TZOFFSETTO:+1000
TZNAME:AEST
DTSTART:19700405T030000
RRULE:FREQ=YEARLY;BYMONTH=4;BYDAY=1SU
END:STANDARD
BEGIN:DAYLIGHT
TZOFFSETFROM:+1000
TZOFFSETTO:+1100
TZNAME:AEDT
DTSTART:19701004T020000
RRULE:FREQ=YEARLY;BYMONTH=10;BYDAY=1SU
END:DAYLIGHT
END:VTIMEZONE
CALSCALE:GREGORIAN
X-WR-TIMEZONE:Australia/Sydney
BEGIN:VEVENT
DTSTART;TZID=Australia/Sydney:20200304T170000
DTEND;TZID=Australia/Sydney:20200304T180000
DTSTAMP:20200304T000000Z
UID:2a148576-122f-456c-b3d2-4b3f5a508c13
LOCATION:Kadina High Campus, Kadina Street, Goonellabah
SUMMARY;LANGUAGE=en-us:Year 7, 2021 Parent Information Night
SEQUENCE:0
DESCRIPTION:For the parents of year 7 students 2021, to find out further information.
END:VEVENT
TRANSP:TRANSPARENT
END:VCALENDAR
