BEGIN:VCALENDAR
VERSION:2.0
PRODID:-//Department Of Education//dd27c8b0-29b7-41a8-a3ce-1dba7ce94567
BEGIN:VTIMEZONE
TZID:Australia/Sydney
TZURL:http://tzurl.org/zoneinfo-outlook/Australia/Sydney
X-LIC-LOCATION:Australia/Sydney
BEGIN:STANDARD
TZOFFSETFROM:+1100
TZOFFSETTO:+1000
TZNAME:AEST
DTSTART:19700405T030000
RRULE:FREQ=YEARLY;BYMONTH=4;BYDAY=1SU
END:STANDARD
BEGIN:DAYLIGHT
TZOFFSETFROM:+1000
TZOFFSETTO:+1100
TZNAME:AEDT
DTSTART:19701004T020000
RRULE:FREQ=YEARLY;BYMONTH=10;BYDAY=1SU
END:DAYLIGHT
END:VTIMEZONE
CALSCALE:GREGORIAN
X-WR-TIMEZONE:Australia/Sydney
BEGIN:VEVENT
DTSTART;TZID=Australia/Sydney:20200305T133000
DTEND;TZID=Australia/Sydney:20200305T143000
DTSTAMP:20200305T000000Z
UID:d303c6d7-80b0-4438-865a-d574ea5b432e
LOCATION:GSAC
SUMMARY;LANGUAGE=en-us:Swimming Scheme
RRULE:FREQ=WEEKLY;INTERVAL=1;UNTIL=20200402;
SEQUENCE:0
DESCRIPTION:Years 3-6 swimming
END:VEVENT
TRANSP:TRANSPARENT
END:VCALENDAR
