BEGIN:VCALENDAR
VERSION:2.0
PRODID:-//Department Of Education//5ca1cec0-65bc-498e-8df3-088c02d5ec4a
BEGIN:VTIMEZONE
TZID:Australia/Sydney
TZURL:http://tzurl.org/zoneinfo-outlook/Australia/Sydney
X-LIC-LOCATION:Australia/Sydney
BEGIN:STANDARD
TZOFFSETFROM:+1100
TZOFFSETTO:+1000
TZNAME:AEST
DTSTART:19700405T030000
RRULE:FREQ=YEARLY;BYMONTH=4;BYDAY=1SU
END:STANDARD
BEGIN:DAYLIGHT
TZOFFSETFROM:+1000
TZOFFSETTO:+1100
TZNAME:AEDT
DTSTART:19701004T020000
RRULE:FREQ=YEARLY;BYMONTH=10;BYDAY=1SU
END:DAYLIGHT
END:VTIMEZONE
CALSCALE:GREGORIAN
X-WR-TIMEZONE:Australia/Sydney
BEGIN:VEVENT
DTSTART;TZID=Australia/Sydney:20200313T143000
DTEND;TZID=Australia/Sydney:20200313T150000
DTSTAMP:20200313T000000Z
UID:74fc8487-651a-4fb8-bbcc-20c5199597a4
LOCATION:Tregeagle Public School
SUMMARY;LANGUAGE=en-us:Assembly
RRULE:FREQ=WEEKLY;INTERVAL=2;UNTIL=20200327;
SEQUENCE:0
DESCRIPTION:Assembly
END:VEVENT
TRANSP:TRANSPARENT
END:VCALENDAR
